BEGIN:VCALENDAR
VERSION:2.0
PRODID:-//McKinley Springs Winery &amp; Vineyard - ECPv6.15.20//NONSGML v1.0//EN
CALSCALE:GREGORIAN
METHOD:PUBLISH
X-ORIGINAL-URL:https://mckinleysprings.com
X-WR-CALDESC:Events for McKinley Springs Winery &amp; Vineyard
REFRESH-INTERVAL;VALUE=DURATION:PT1H
X-Robots-Tag:noindex
X-PUBLISHED-TTL:PT1H
BEGIN:VTIMEZONE
TZID:America/Los_Angeles
BEGIN:DAYLIGHT
TZOFFSETFROM:-0800
TZOFFSETTO:-0700
TZNAME:PDT
DTSTART:20230312T100000
END:DAYLIGHT
BEGIN:STANDARD
TZOFFSETFROM:-0700
TZOFFSETTO:-0800
TZNAME:PST
DTSTART:20231105T090000
END:STANDARD
BEGIN:DAYLIGHT
TZOFFSETFROM:-0800
TZOFFSETTO:-0700
TZNAME:PDT
DTSTART:20240310T100000
END:DAYLIGHT
BEGIN:STANDARD
TZOFFSETFROM:-0700
TZOFFSETTO:-0800
TZNAME:PST
DTSTART:20241103T090000
END:STANDARD
BEGIN:DAYLIGHT
TZOFFSETFROM:-0800
TZOFFSETTO:-0700
TZNAME:PDT
DTSTART:20250309T100000
END:DAYLIGHT
BEGIN:STANDARD
TZOFFSETFROM:-0700
TZOFFSETTO:-0800
TZNAME:PST
DTSTART:20251102T090000
END:STANDARD
BEGIN:DAYLIGHT
TZOFFSETFROM:-0800
TZOFFSETTO:-0700
TZNAME:PDT
DTSTART:20260308T100000
END:DAYLIGHT
BEGIN:STANDARD
TZOFFSETFROM:-0700
TZOFFSETTO:-0800
TZNAME:PST
DTSTART:20261101T090000
END:STANDARD
END:VTIMEZONE
BEGIN:VEVENT
DTSTART;TZID=America/Los_Angeles:20250316T120000
DTEND;TZID=America/Los_Angeles:20250316T180000
DTSTAMP:20260421T045252
CREATED:20250301T231316Z
LAST-MODIFIED:20250301T231316Z
UID:10000084-1742126400-1742148000@mckinleysprings.com
SUMMARY:Food Truck Sunday!
DESCRIPTION:Featuring Nana’s Kitchen \nVisit us  and enjoy their amazing grub in our parking lot for both McKinley Springs and Longship Cellars! \nKeep checking back for monthly Food Trucks on Sundays…. \nFeel free to purchase food and bring into our Tasting Rooms…
URL:https://mckinleysprings.com/event/food-truck-sunday/
LOCATION:McKinley Springs Richland Tasting Room\, 400 Bradley Blvd. #102\, Richland\, WA\, 99352\, United States
ATTACH;FMTTYPE=image/jpeg:https://mckinleysprings.com/wp-content/uploads/2025/03/Nanas-Kitchen-Menu-1_Page_1-Web-1365x2048-1.jpg
END:VEVENT
BEGIN:VEVENT
DTSTART;TZID=America/Los_Angeles:20250220T170000
DTEND;TZID=America/Los_Angeles:20250220T190000
DTSTAMP:20260421T045252
CREATED:20250112T211058Z
LAST-MODIFIED:20250112T211058Z
UID:10000075-1740070800-1740078000@mckinleysprings.com
SUMMARY:Wicks and Sips
DESCRIPTION:Candle Making Class\nThursday\, February 20th\n5 to 7 pm\n$45 per person\nJessica Dilger of Whimsy Apothecary will help guests design their own candles. $45 per person – limited to 15 guests. Includes all candle materials and a glass of wine/or sparkling water. Additional wines by the glass or bottle available for purchase. Light charcuterie will be provided. Call for more info: 509.578.1009 or email: carlos@mckinleysprings.com \n  \n 
URL:https://mckinleysprings.com/event/wicks-and-sips/
LOCATION:McKinley Springs Richland Tasting Room\, 400 Bradley Blvd. #102\, Richland\, WA\, 99352\, United States
ATTACH;FMTTYPE=image/jpeg:https://mckinleysprings.com/wp-content/uploads/2025/01/Whimsy-Candle-Class-1.jpg
END:VEVENT
BEGIN:VEVENT
DTSTART;TZID=America/Los_Angeles:20250219T160000
DTEND;TZID=America/Los_Angeles:20250219T190000
DTSTAMP:20260421T045252
CREATED:20250112T211840Z
LAST-MODIFIED:20250112T211840Z
UID:10000076-1739980800-1739991600@mckinleysprings.com
SUMMARY:Washington Women on Wine
DESCRIPTION:Private Event\nTasting Room will be closed at 4 pm…
URL:https://mckinleysprings.com/event/washington-women-on-wine/
LOCATION:McKinley Springs Richland Tasting Room\, 400 Bradley Blvd. #102\, Richland\, WA\, 99352\, United States
END:VEVENT
BEGIN:VEVENT
DTSTART;VALUE=DATE:20250214
DTEND;VALUE=DATE:20250217
DTSTAMP:20260421T045252
CREATED:20250116T221152Z
LAST-MODIFIED:20250208T203937Z
UID:10000078-1739491200-1739750399@mckinleysprings.com
SUMMARY:Bubbles\, Rose' and Red Wine...Paired with Sweet and Savory Bites
DESCRIPTION:Celebrate Valentine’s Day Weekend! \nVisit us before your Valentine’s Dinner… \nEnjoy your wine flight with sweet and savory pairings… \nYour visit begins with a tasting of our Brut sparkling wine\, three red wines will then be part of your flight presented at your table paired with  a small plate of sweet and savory morsels – you can decide which pairing is your favorite! \nEach flight is $15 waived with a $30 purchase
URL:https://mckinleysprings.com/event/red-wine-and-savory-bites/
LOCATION:McKinley Springs Richland Tasting Room\, 400 Bradley Blvd. #102\, Richland\, WA\, 99352\, United States
ATTACH;FMTTYPE=image/jpeg:https://mckinleysprings.com/wp-content/uploads/2025/01/Misc-Valentines-scaled.jpg
END:VEVENT
BEGIN:VEVENT
DTSTART;VALUE=DATE:20250209
DTEND;VALUE=DATE:20250210
DTSTAMP:20260421T045252
CREATED:20250112T222023Z
LAST-MODIFIED:20250206T232059Z
UID:10000077-1739059200-1739145599@mckinleysprings.com
SUMMARY:Superbowl Party!
DESCRIPTION:Super Bowl\, February 9th – Yup! We’ll be open and will have the game on… \nBeers and Wine by the Glass (Bombing Range Red or White) $5\nChips and Salsa available – feel free to bring your own munchies also… \nRoom can only seat 24\, so first come\, first serve….or call to check availability or to reserve a table. \n509-578-1009 \nor email: carlos@mckinleysprings.com
URL:https://mckinleysprings.com/event/superbowl-party/
LOCATION:McKinley Springs Richland Tasting Room\, 400 Bradley Blvd. #102\, Richland\, WA\, 99352\, United States
ATTACH;FMTTYPE=image/png:https://mckinleysprings.com/wp-content/uploads/2025/01/National_Football_League_logo.svg.png
END:VEVENT
BEGIN:VEVENT
DTSTART;TZID=America/Los_Angeles:20250112T124200
DTEND;TZID=America/Los_Angeles:20250112T124200
DTSTAMP:20260421T045252
CREATED:20250111T201244Z
LAST-MODIFIED:20250112T204227Z
UID:10000074-1736685720-1736685720@mckinleysprings.com
SUMMARY:Trivia Night Coming Soon!
DESCRIPTION:Bring your Team! \nFinal Sunday of the Month… \nWine by the glass or bottle…Charcuterie or other savory delectables available for purchase… \nCheck back for more info!
URL:https://mckinleysprings.com/event/trivia-night-coming-soon/2025-01-12/3/
LOCATION:McKinley Springs Richland Tasting Room\, 400 Bradley Blvd. #102\, Richland\, WA\, 99352\, United States
END:VEVENT
BEGIN:VEVENT
DTSTART;TZID=America/Los_Angeles:20250112T124109
DTEND;TZID=America/Los_Angeles:20250112T124109
DTSTAMP:20260421T045252
CREATED:20250111T201244Z
LAST-MODIFIED:20250112T204227Z
UID:10000072-1736685669-1736685669@mckinleysprings.com
SUMMARY:Trivia Night Coming Soon!
DESCRIPTION:Bring your Team! \nFinal Sunday of the Month… \nWine by the glass or bottle…Charcuterie or other savory delectables available for purchase… \nCheck back for more info!
URL:https://mckinleysprings.com/event/trivia-night-coming-soon/2025-01-12/1/
LOCATION:McKinley Springs Richland Tasting Room\, 400 Bradley Blvd. #102\, Richland\, WA\, 99352\, United States
END:VEVENT
BEGIN:VEVENT
DTSTART;VALUE=DATE:20241011
DTEND;VALUE=DATE:20241014
DTSTAMP:20260421T045252
CREATED:20240929T233043Z
LAST-MODIFIED:20250110T231447Z
UID:10000007-1728604800-1728863999@mckinleysprings.com
SUMMARY:McKinley Springs Fall Release
DESCRIPTION:Join us as we unveil for a short time\, our Fall Releases! \nOur new R. Andrews label showcases the best of what McKinley Springs has to offer. These Wine Club releases are amazing and will only be available for a short while to the general public and then will only be Wine Club Specific until a later public release! \n2022 Malbec \n2022 Merlot \n2022 Cabernet Sauvignon
URL:https://mckinleysprings.com/event/mckinley-springs-fall-release/
LOCATION:McKinley Springs Richland Tasting Room\, 400 Bradley Blvd. #102\, Richland\, WA\, 99352\, United States
END:VEVENT
END:VCALENDAR